BEGIN:VCALENDAR
VERSION:2.0
PRODID:-//Westernport Church - ECPv4.9.14//NONSGML v1.0//EN
CALSCALE:GREGORIAN
METHOD:PUBLISH
X-WR-CALNAME:Westernport Church
X-ORIGINAL-URL:https://westernportchurch.com.au
X-WR-CALDESC:Events for Westernport Church
BEGIN:VTIMEZONE
TZID:UTC
BEGIN:STANDARD
TZOFFSETFROM:+0000
TZOFFSETTO:+0000
TZNAME:UTC
DTSTART:20190101T000000
END:STANDARD
END:VTIMEZONE
BEGIN:VEVENT
DTSTART;TZID=UTC:20190728T170000
DTEND;TZID=UTC:20190728T190000
DTSTAMP:20200301T182839
CREATED:20190706T144516Z
LAST-MODIFIED:20190706T144516Z
UID:4717-1564333200-1564340400@westernportchurch.com.au
SUMMARY:Baptism Program
DESCRIPTION:Contact Maree Strong -0424 249 601 \n 
URL:https://westernportchurch.com.au/event/baptism-program/
LOCATION:Parish Activity Centre
END:VEVENT
END:VCALENDAR