BEGIN:VCALENDAR
VERSION:2.0
PRODID:-//Westernport Church - ECPv4.9.14//NONSGML v1.0//EN
CALSCALE:GREGORIAN
METHOD:PUBLISH
X-WR-CALNAME:Westernport Church
X-ORIGINAL-URL:https://westernportchurch.com.au
X-WR-CALDESC:Events for Westernport Church
BEGIN:VTIMEZONE
TZID:UTC
BEGIN:STANDARD
TZOFFSETFROM:+0000
TZOFFSETTO:+0000
TZNAME:UTC
DTSTART:20190101T000000
END:STANDARD
END:VTIMEZONE
BEGIN:VEVENT
DTSTART;TZID=UTC:20190622T100000
DTEND;TZID=UTC:20190622T160000
DTSTAMP:20200301T185405
CREATED:20190601T163746Z
LAST-MODIFIED:20190601T163746Z
UID:4619-1561197600-1561219200@westernportchurch.com.au
SUMMARY:Heart of Life Reflection Day
DESCRIPTION:Contact : Heart of Life :Centre of Spiritual &Pastoral Formation Box Hill tel. 03 9890 1101 \n 
URL:https://westernportchurch.com.au/event/heart-of-life-reflection-day/
END:VEVENT
END:VCALENDAR