BEGIN:VCALENDAR
VERSION:2.0
PRODID:-//Westernport Church - ECPv4.9.14//NONSGML v1.0//EN
CALSCALE:GREGORIAN
METHOD:PUBLISH
X-WR-CALNAME:Westernport Church
X-ORIGINAL-URL:https://westernportchurch.com.au
X-WR-CALDESC:Events for Westernport Church
BEGIN:VTIMEZONE
TZID:UTC
BEGIN:STANDARD
TZOFFSETFROM:+0000
TZOFFSETTO:+0000
TZNAME:UTC
DTSTART:20190101T000000
END:STANDARD
END:VTIMEZONE
BEGIN:VEVENT
DTSTART;TZID=UTC:20190623T113000
DTEND;TZID=UTC:20190623T170000
DTSTAMP:20200301T185440
CREATED:20190607T233455Z
LAST-MODIFIED:20190607T233455Z
UID:4658-1561289400-1561309200@westernportchurch.com.au
SUMMARY:Men's Luncheon
DESCRIPTION: 
URL:https://westernportchurch.com.au/event/mens-luncheon/
LOCATION:Parish Centre
END:VEVENT
END:VCALENDAR