BEGIN:VCALENDAR
VERSION:2.0
PRODID:-//Westernport Church - ECPv4.9.14//NONSGML v1.0//EN
CALSCALE:GREGORIAN
METHOD:PUBLISH
X-WR-CALNAME:Westernport Church
X-ORIGINAL-URL:https://westernportchurch.com.au
X-WR-CALDESC:Events for Westernport Church
BEGIN:VTIMEZONE
TZID:UTC
BEGIN:STANDARD
TZOFFSETFROM:+0000
TZOFFSETTO:+0000
TZNAME:UTC
DTSTART:20190101T000000
END:STANDARD
END:VTIMEZONE
BEGIN:VEVENT
DTSTART;TZID=UTC:20190726T120000
DTEND;TZID=UTC:20190726T140000
DTSTAMP:20200301T182808
CREATED:20190601T162855Z
LAST-MODIFIED:20190601T162855Z
UID:4615-1564142400-1564149600@westernportchurch.com.au
SUMMARY:St. Joseph's Cafe
DESCRIPTION: 
URL:https://westernportchurch.com.au/event/st-josephs-cafe/
END:VEVENT
END:VCALENDAR