BEGIN:VCALENDAR
VERSION:2.0
PRODID:-//Westernport Church - ECPv4.9.14//NONSGML v1.0//EN
CALSCALE:GREGORIAN
METHOD:PUBLISH
X-WR-CALNAME:Westernport Church
X-ORIGINAL-URL:https://westernportchurch.com.au
X-WR-CALDESC:Events for Westernport Church
BEGIN:VTIMEZONE
TZID:UTC
BEGIN:STANDARD
TZOFFSETFROM:+0000
TZOFFSETTO:+0000
TZNAME:UTC
DTSTART:20190101T000000
END:STANDARD
END:VTIMEZONE
BEGIN:VEVENT
DTSTART;TZID=UTC:20190619T193000
DTEND;TZID=UTC:20190619T210000
DTSTAMP:20200301T185310
CREATED:20190601T153321Z
LAST-MODIFIED:20190601T153321Z
UID:4613-1560972600-1560978000@westernportchurch.com.au
SUMMARY:Stewardship Meeting
DESCRIPTION: 
URL:https://westernportchurch.com.au/event/stewardship-meeting-2/
END:VEVENT
END:VCALENDAR